BEGIN:VCALENDAR
VERSION:2.0
PRODID:-//GiftAbled - ECPv6.15.20//NONSGML v1.0//EN
CALSCALE:GREGORIAN
METHOD:PUBLISH
X-WR-CALNAME:GiftAbled
X-ORIGINAL-URL:https://giftabled.org
X-WR-CALDESC:Events for GiftAbled
REFRESH-INTERVAL;VALUE=DURATION:PT1H
X-Robots-Tag:noindex
X-PUBLISHED-TTL:PT1H
BEGIN:VTIMEZONE
TZID:UTC
BEGIN:STANDARD
TZOFFSETFROM:+0000
TZOFFSETTO:+0000
TZNAME:UTC
DTSTART:20250101T000000
END:STANDARD
END:VTIMEZONE
BEGIN:VEVENT
DTSTART;TZID=UTC:20260214T110000
DTEND;TZID=UTC:20260214T120000
DTSTAMP:20260420T081740
CREATED:20260203T061719Z
LAST-MODIFIED:20260203T063334Z
UID:29412-1771066800-1771070400@giftabled.org
SUMMARY:Basic ISL
DESCRIPTION:Fees – Rs.100\nMode-Online \n  \n Register Now
URL:https://giftabled.org/event/beginner-isl/
LOCATION:Online
CATEGORIES:Education
ATTACH;FMTTYPE=image/jpeg:https://giftabled.org/wp-content/uploads/2025/06/WhatsApp-Image-2026-01-31-at-17.07.03.jpeg
END:VEVENT
BEGIN:VEVENT
DTSTART;TZID=UTC:20260214T143000
DTEND;TZID=UTC:20260214T173000
DTSTAMP:20260420T081740
CREATED:20250705T123613Z
LAST-MODIFIED:20260203T061515Z
UID:31653-1771079400-1771090200@giftabled.org
SUMMARY:Advanced ISL
DESCRIPTION:Contact: 8217547640  (Indudhara\, Deaf) \nEmail:indudhara.manikya@giftabled.org \nAmount: Rs.1500 \nRegister Now
URL:https://giftabled.org/event/advanced-isl/
LOCATION:Online
CATEGORIES:Education
ATTACH;FMTTYPE=image/jpeg:https://giftabled.org/wp-content/uploads/2025/06/WhatsApp-Image-2026-01-31-at-17.07.03.jpeg
END:VEVENT
END:VCALENDAR