BEGIN:VCALENDAR
VERSION:2.0
PRODID:-//GiftAbled - ECPv6.15.20//NONSGML v1.0//EN
CALSCALE:GREGORIAN
METHOD:PUBLISH
X-WR-CALNAME:GiftAbled
X-ORIGINAL-URL:https://giftabled.org
X-WR-CALDESC:Events for GiftAbled
REFRESH-INTERVAL;VALUE=DURATION:PT1H
X-Robots-Tag:noindex
X-PUBLISHED-TTL:PT1H
BEGIN:VTIMEZONE
TZID:UTC
BEGIN:STANDARD
TZOFFSETFROM:+0000
TZOFFSETTO:+0000
TZNAME:UTC
DTSTART:20250101T000000
END:STANDARD
END:VTIMEZONE
BEGIN:VEVENT
DTSTART;TZID=UTC:20260207T160000
DTEND;TZID=UTC:20260207T170000
DTSTAMP:20260421T084310
CREATED:20250610T125419Z
LAST-MODIFIED:20260203T062552Z
UID:31252-1770480000-1770483600@giftabled.org
SUMMARY:Basic ISL
DESCRIPTION:Contact: 8217547640  (Indudhara\, Deaf) \nEmail:indudhara.manikya@giftabled.org \nFees-Rs.100 \nRegister Now
URL:https://giftabled.org/event/basic-isl/
LOCATION:Online
CATEGORIES:Education
ATTACH;FMTTYPE=image/jpeg:https://giftabled.org/wp-content/uploads/2025/06/WhatsApp-Image-2026-01-31-at-17.07.03.jpeg
END:VEVENT
END:VCALENDAR