BEGIN:VCALENDAR
VERSION:2.0
PRODID:-//GiftAbled - ECPv6.15.20//NONSGML v1.0//EN
CALSCALE:GREGORIAN
METHOD:PUBLISH
X-ORIGINAL-URL:https://giftabled.org
X-WR-CALDESC:Events for GiftAbled
REFRESH-INTERVAL;VALUE=DURATION:PT1H
X-Robots-Tag:noindex
X-PUBLISHED-TTL:PT1H
BEGIN:VTIMEZONE
TZID:UTC
BEGIN:STANDARD
TZOFFSETFROM:+0000
TZOFFSETTO:+0000
TZNAME:UTC
DTSTART:20240101T000000
END:STANDARD
END:VTIMEZONE
BEGIN:VEVENT
DTSTART;TZID=UTC:20250308T150000
DTEND;TZID=UTC:20250308T170000
DTSTAMP:20260420T110511
CREATED:20240810T110447Z
LAST-MODIFIED:20250225T125722Z
UID:25473-1741446000-1741453200@giftabled.org
SUMMARY:Celebrate Women's Day at Omashram Trust!
DESCRIPTION:Register Now
URL:https://giftabled.org/event/celebrate-womens-day/
LOCATION:Omashram Trust\, 19/2\, 1st Main\, Vijayashree Layout Hulimavu Gate\, Bannerghatta Rd\, Bangalore\, Karnataka\, 560076\, India
CATEGORIES:Education
ATTACH;FMTTYPE=image/jpeg:https://giftabled.org/wp-content/uploads/2024/08/International-Womens-Day-A-Special-Date.jpg
ORGANIZER;CN="Ananya":MAILTO:ananya.s@giftabled.org
END:VEVENT
END:VCALENDAR