BEGIN:VCALENDAR
VERSION:2.0
PRODID:-//GiftAbled - ECPv6.15.20//NONSGML v1.0//EN
CALSCALE:GREGORIAN
METHOD:PUBLISH
X-ORIGINAL-URL:https://giftabled.org
X-WR-CALDESC:Events for GiftAbled
REFRESH-INTERVAL;VALUE=DURATION:PT1H
X-Robots-Tag:noindex
X-PUBLISHED-TTL:PT1H
BEGIN:VTIMEZONE
TZID:UTC
BEGIN:STANDARD
TZOFFSETFROM:+0000
TZOFFSETTO:+0000
TZNAME:UTC
DTSTART:20240101T000000
END:STANDARD
END:VTIMEZONE
BEGIN:VEVENT
DTSTART;TZID=UTC:20250301T100000
DTEND;TZID=UTC:20250301T120000
DTSTAMP:20260420T110533
CREATED:20250217T073340Z
LAST-MODIFIED:20250218T082124Z
UID:29413-1740823200-1740830400@giftabled.org
SUMMARY:Free ISL Classes for Parents of Deaf Children 1st March 2025
DESCRIPTION:Important Update:The session originally scheduled for  15th February 2025  has been  postponed to 1st March 2025. \nNote:f you have already learned  Basic ISL\, we encourage you to  volunteer  and support parents in learning ISL! \nContact: 8217547640  (Deaf) & 6362517541 (Call) \n  \nRegister Now
URL:https://giftabled.org/event/free-isl-classes-for-parents-of-deaf-children-1st-march-2025/
LOCATION:SKID for the Deaf School\, No:28\, Rustum Bagh Main Rd\, Rustam Bagh Layout\, Old Airport Road\, Bangalore\, Karnataka\, 560008\, India
CATEGORIES:Education
ATTACH;FMTTYPE=image/png:https://giftabled.org/wp-content/uploads/2025/02/free-isl-classes-for-parents-of-deaf-children-bannerr.png
END:VEVENT
END:VCALENDAR