BEGIN:VCALENDAR
VERSION:2.0
PRODID:-//GiftAbled - ECPv6.15.20//NONSGML v1.0//EN
CALSCALE:GREGORIAN
METHOD:PUBLISH
X-ORIGINAL-URL:https://giftabled.org
X-WR-CALDESC:Events for GiftAbled
REFRESH-INTERVAL;VALUE=DURATION:PT1H
X-Robots-Tag:noindex
X-PUBLISHED-TTL:PT1H
BEGIN:VTIMEZONE
TZID:UTC
BEGIN:STANDARD
TZOFFSETFROM:+0000
TZOFFSETTO:+0000
TZNAME:UTC
DTSTART:20230101T000000
END:STANDARD
END:VTIMEZONE
BEGIN:VEVENT
DTSTART;TZID=UTC:20241019T110000
DTEND;TZID=UTC:20241019T130000
DTSTAMP:20260420T181147
CREATED:20240810T110732Z
LAST-MODIFIED:20241011T111845Z
UID:25475-1729335600-1729342800@giftabled.org
SUMMARY:Assessment ISL
DESCRIPTION:  \n Register Now
URL:https://giftabled.org/event/assessment-isl/
LOCATION:SKID School for the Deaf
CATEGORIES:Education
ATTACH;FMTTYPE=image/jpeg:https://giftabled.org/wp-content/uploads/2020/09/WhatsApp-Image-2024-07-27-at-16.12.03-1-1-scaled.jpeg
END:VEVENT
END:VCALENDAR