BEGIN:VCALENDAR
VERSION:2.0
PRODID:-//GiftAbled - ECPv6.15.20//NONSGML v1.0//EN
CALSCALE:GREGORIAN
METHOD:PUBLISH
X-WR-CALNAME:GiftAbled
X-ORIGINAL-URL:https://giftabled.org
X-WR-CALDESC:Events for GiftAbled
REFRESH-INTERVAL;VALUE=DURATION:PT1H
X-Robots-Tag:noindex
X-PUBLISHED-TTL:PT1H
BEGIN:VTIMEZONE
TZID:UTC
BEGIN:STANDARD
TZOFFSETFROM:+0000
TZOFFSETTO:+0000
TZNAME:UTC
DTSTART:20240101T000000
END:STANDARD
END:VTIMEZONE
BEGIN:VEVENT
DTSTART;TZID=UTC:20250510T103000
DTEND;TZID=UTC:20250510T143000
DTSTAMP:20260421T095020
CREATED:20250503T083717Z
LAST-MODIFIED:20250507T085631Z
UID:30936-1746873000-1746887400@giftabled.org
SUMMARY:Join Us for a Joyful Volunteering Experience
DESCRIPTION:Join Us for a Joyful Volunteering Experience! \nSensory Bins & Messy Play\nArts & Crafts Workshops\nGames & Cognitive Activities \nContact: 9133028262  (Sneha) \nEmail:sneha.dyaka@giftabled.org \nLocation: Gerizim Rehabilitation Trust \n\n\n\nRegister Now
URL:https://giftabled.org/event/join-us-for-a-joyful-volunteering-experience/
LOCATION:Gerizim Rehabilitation Trust\, Children’s Home 24\, 24th D Cross\, Ejipura\, Vivek Nagar P.O.\, Bengaluru\, Karnataka 560047 (Landmark: Near Koramangala – Sony World Signal\, Bangalore\, Karnataka\, 560076\, India
CATEGORIES:Education
ATTACH;FMTTYPE=image/jpeg:https://giftabled.org/wp-content/uploads/2025/05/Volunteering-Experience.jpg
END:VEVENT
BEGIN:VEVENT
DTSTART;TZID=UTC:20250524T110000
DTEND;TZID=UTC:20250524T170000
DTSTAMP:20260421T095020
CREATED:20250517T111402Z
LAST-MODIFIED:20250517T114159Z
UID:30962-1748084400-1748106000@giftabled.org
SUMMARY:ISL Course Virtual May 24th 2025
DESCRIPTION:Course Name: ISL Course \nMode: Virtual \nFee: 1500rs \nContact: 8217547640  (Indudhara\, Deaf) \nEmail:indudhara.manikya@giftabled.org \nRegister Now
URL:https://giftabled.org/event/isl-course-virtual-may-24th-2025/
LOCATION:Google Meet
CATEGORIES:Education
ATTACH;FMTTYPE=image/jpeg:https://giftabled.org/wp-content/uploads/2025/05/ISL-Course-Virtual-May-24th-2025.jpg
END:VEVENT
END:VCALENDAR